BEGIN:VCALENDAR
VERSION:2.0
PRODID:-//https://eruuf.org///NONSGML kigkonsult.se iCalcreator 2.10.15//
METHOD:PUBLISH
BEGIN:VEVENT
UID:20260424T102300UTC-0046EiKH6p@https://eruuf.org/
DTSTAMP:20260424T102300Z
DESCRIPTION:Please see Upcoming Services for details of each service.Please
  see Past Services for podcasts and details of older services.  https://er
 uuf.org/calendar/calendar-view/event/925-second-worship-service.html
DTSTART:20150322T151500Z
DTEND:20150322T161500Z
LOCATION:Sanctuary - ERUUF   (4907 Garrett Road\, Durham\, NC 27707  )
SUMMARY:Second Worship Service
URL:https://eruuf.org/calendar/calendar-view/event/925-second-worship-servi
 ce.html
END:VEVENT
END:VCALENDAR
