BEGIN:VCALENDAR
VERSION:2.0
PRODID:-//https://eruuf.org///NONSGML kigkonsult.se iCalcreator 2.10.15//
METHOD:PUBLISH
BEGIN:VEVENT
UID:20260425T233857UTC-50445nTuTP@https://eruuf.org/
DTSTAMP:20260425T233857Z
DESCRIPTION:Do you know what is involved in organizing your assets and plan
 ning for the future? Come have a conversation with Jennifer Dalman\, an es
 tate planning attorney from Walker Lambe\, who will explain the basics\, a
 nd address your question. For more info\, contact plannedgiving@eruuf.org.
 \nREGISTER https://eruuf.org/calendar/calendar-view/event/9264-estate-plan
 ning-seminar-hosted-by-planned-giving-team.html
DTSTART:20201005T190000Z
DTEND:20201005T200000Z
LOCATION:Online (Zoom) (Scroll down to join or register.) ()
SUMMARY:Estate Planning Seminar hosted by Planned Giving Team 
URL:https://eruuf.org/calendar/calendar-view/event/9264-estate-planning-sem
 inar-hosted-by-planned-giving-team.html
END:VEVENT
END:VCALENDAR
