BEGIN:VCALENDAR
VERSION:2.0
PRODID:-//https://eruuf.org///NONSGML kigkonsult.se iCalcreator 2.10.15//
METHOD:PUBLISH
BEGIN:VEVENT
UID:20260423T040114UTC-7327g1Pgou@https://eruuf.org/
DTSTAMP:20260423T040114Z
DESCRIPTION:ERUUF's 2020 Connections Fair!\nThe Connections Fair is the ann
 ual fall event where people in the Fellowship have a chance to connect wit
 h one another as they find out about the many opportunities to get involve
 d at ERUUF -- both within the Fellowship and in the work beyond our walls.
 \nThis year’s Connections Fair is a completely online! Join us for Connect
 ions Fair Sunday on September 20\, from 12:00 - 1:30 pm. Fair visitors wil
 l meet up in ERUUF’s official Connections Fair Zoom Room where they’ll be 
 able to connect with groups in assigned Breakout Rooms. There’ll be opport
 unities to ask questions\, sign up\, or get more information. Think of it 
 as “virtual tabling.” Click on the 'Join Connections Fair Zoom Room' link 
 and enter the passcode (below) to join. \nWe look forward to Connecting Wi
 th You at the Fair!\nJoin Connections Fair Zoom Room \nMeeting ID: 833 298
 4 5632Passcode: 859104\nView the Connecting With You website https://eruuf
 .org/calendar/calendar-view/event/9269-connections-fair-2020-connecting-wi
 th-you.html
DTSTART:20200920T160000Z
DTEND:20200920T173000Z
LOCATION:Online (Zoom) (Scroll down to join or register.) ()
SUMMARY:Connections Fair 2020: Connecting with You
URL:https://eruuf.org/calendar/calendar-view/event/9269-connections-fair-20
 20-connecting-with-you.html
END:VEVENT
END:VCALENDAR
