BEGIN:VCALENDAR
VERSION:2.0
PRODID:-//https://eruuf.org///NONSGML kigkonsult.se iCalcreator 2.10.15//
METHOD:PUBLISH
BEGIN:VEVENT
UID:20260421T172947UTC-1926zp6mUx@https://eruuf.org/
DTSTAMP:20260421T172947Z
DESCRIPTION:Join us for Faith Development for Children & Adults\, May 23\, 
 12:00 PM \n \nRegister Now\n \nThe Inquirers Series is offered each Sunday
  morning to welcome and inform visitors and friends about ERUUF. Members a
 re welcome to these classes as well. You will converse with ministers\, st
 aff\, and lay leaders as you learn about ERUUF’s values\, culture\, and mi
 nistries\, along with basics about Unitarian Universalism. Eight topics ar
 e covered\, one per session\, and then repeated throughout the year. \nPle
 ase register in advance.You will be sent the Zoom link in advance of the c
 lass.\nPLEASE REGISTER BY NOON ON THE SATURDAY BEFORE CLASS\nQuestions? Co
 ntact Michele Sager\, Program Assistant at msager@eruuf.org\n \nJoin Zoom 
 Meeting\nMeeting ID: 965 7004 9711\nPassword: 541144 https://eruuf.org/cal
 endar/calendar-view/event/9334-inquirers-series.html
DTSTART:20210523T160000Z
DTEND:20210523T165500Z
LOCATION:Online (Zoom) (Scroll down to join or register.) ()
SUMMARY:Inquirers Series
URL:https://eruuf.org/calendar/calendar-view/event/9334-inquirers-series.ht
 ml
END:VEVENT
END:VCALENDAR
