BEGIN:VCALENDAR
VERSION:2.0
PRODID:-//https://eruuf.org///NONSGML kigkonsult.se iCalcreator 2.10.15//
METHOD:PUBLISH
BEGIN:VEVENT
UID:20260424T105954UTC-9228g9s6Zm@https://eruuf.org/
DTSTAMP:20260424T105954Z
DESCRIPTION:Join us for Worship & The Liturgical Year\,  May 30\, 12:00 PM
 \nRegister Now\n \nThe Inquirers Series is offered each Sunday morning to 
 welcome and inform visitors and friends about ERUUF. Members are welcome t
 o these classes as well. You will converse with ministers\, staff\, and la
 y leaders as you learn about ERUUF’s values\, culture\, and ministries\, a
 long with basics about Unitarian Universalism. Eight topics are covered\, 
 one per session\, and then repeated throughout the year. \nPlease register
  in advance.You will be sent the Zoom link in advance of the class.\nPLEAS
 E REGISTER BY NOON ON THE SATURDAY BEFORE CLASS\nQuestions? Contact Michel
 e Sager\, Program Assistant at msager@eruuf.org\n \nJoin Zoom Meeting\nMee
 ting ID: 965 7004 9711\nPassword: 541144 https://eruuf.org/calendar/calend
 ar-view/event/9335-inquirers-series.html
DTSTART:20210530T160000Z
DTEND:20210530T165500Z
LOCATION:Online (Zoom) (Scroll down to join or register.) ()
SUMMARY:Inquirers Series
URL:https://eruuf.org/calendar/calendar-view/event/9335-inquirers-series.ht
 ml
END:VEVENT
END:VCALENDAR
