BEGIN:VCALENDAR
VERSION:2.0
PRODID:-//https://eruuf.org///NONSGML kigkonsult.se iCalcreator 2.10.15//
METHOD:PUBLISH
BEGIN:VEVENT
UID:20260422T143409UTC-2717U5lcjz@https://eruuf.org/
DTSTAMP:20260422T143409Z
DESCRIPTION:Are You Ready to Join ERUUF?\nInquirers Retreat Day is Saturday
 \, October 10\, 9:00 am – 4:00 pm via Zoom\nYou will converse with ministe
 rs\, staff\, and lay leaders as you learn about ERUUF’s values\, culture\,
  and ministries\, along with basics about Unitarian Universalism. Eight to
 pics are covered\, and all form the foundation for those considering membe
 rship at ERUUF and are necessary to join. Register for one or more session
 s throughout the day\, or all eight. Please register no later than Friday\
 , October 9.\nRegister Now\nAn online book signing session\, for those who
  have completed all eight topics and wish to become a member\, will take p
 lace Saturday morning\, October 17 with the ministers!\nQuestions? Contact
  Simon Kaplan or Michele Sager https://eruuf.org/calendar/calendar-view/ev
 ent/9338-inquirers-retreat-day.html
DTSTART:20201010T130000Z
DTEND:20201010T200000Z
LOCATION:Online (Zoom) (Scroll down to join or register.) ()
SUMMARY:Inquirers Retreat Day
URL:https://eruuf.org/calendar/calendar-view/event/9338-inquirers-retreat-d
 ay.html
END:VEVENT
END:VCALENDAR
