BEGIN:VCALENDAR
VERSION:2.0
PRODID:-//https://eruuf.org///NONSGML kigkonsult.se iCalcreator 2.10.15//
METHOD:PUBLISH
BEGIN:VEVENT
UID:20260419T231638UTC-0891Wfuvks@https://eruuf.org/
DTSTAMP:20260419T231638Z
DESCRIPTION:You will converse with ministers\, staff\, and lay leaders as y
 ou learn about ERUUF’s values\, culture\, and ministries\, along with basi
 cs about Unitarian Universalism. Eight topics are covered\, and all form t
 he foundation for those considering membership at ERUUF and are necessary 
 to join. Register for one or more sessions throughout the day\, or all eig
 ht. Please register no later than Friday\, October 9.  https://eruuf.org/c
 alendar/calendar-view/event/9343-inquirers-series-all-day-retreat.html
DTSTART:20201010T130000Z
DTEND:20201010T200000Z
LOCATION:Online (Zoom) (Scroll down to join or register.) ()
SUMMARY:Inquirers Series-All Day Retreat
URL:https://eruuf.org/calendar/calendar-view/event/9343-inquirers-series-al
 l-day-retreat.html
END:VEVENT
END:VCALENDAR
