BEGIN:VCALENDAR
VERSION:2.0
PRODID:-//https://eruuf.org///NONSGML kigkonsult.se iCalcreator 2.10.15//
METHOD:PUBLISH
BEGIN:VEVENT
UID:20260422T192629UTC-2540ieNsZ8@https://eruuf.org/
DTSTAMP:20260422T192629Z
DESCRIPTION:for more information contact jtyler@eruuf.org https://eruuf.org
 /calendar/calendar-view/event/9345-r-e-family-rhythm-circle-to-celebrate-a
 ll-souls-day.html
DTSTART:20201101T193000Z
DTEND:20201101T210000Z
LOCATION:Outside Zone 4\, CARE Building Picnic Area ()
SUMMARY:R.E. Family Rhythm Circle to celebrate All Souls Day
URL:https://eruuf.org/calendar/calendar-view/event/9345-r-e-family-rhythm-c
 ircle-to-celebrate-all-souls-day.html
END:VEVENT
END:VCALENDAR
