BEGIN:VCALENDAR
VERSION:2.0
PRODID:-//https://eruuf.org///NONSGML kigkonsult.se iCalcreator 2.10.15//
METHOD:PUBLISH
BEGIN:VEVENT
UID:20260423T211944UTC-98450Lf0d1@https://eruuf.org/
DTSTAMP:20260423T211944Z
DESCRIPTION:Performers needed: Cafe at Home!\nOur initial virtual Cafe at H
 ome was a great success in June. We will have our second virtual Cafe on S
 aturday\, October 24. We are looking for performers of all ages to contrib
 ute offerings of music\, poetry or short stories\, dramatic offerings\, ma
 gic acts - whatever you have to share in a video performance. All acts wil
 l need to be pre-recorded and sent in. Please contact Pam DiLavore DiLavor
 e@aol.com to sign up or for more information. https://eruuf.org/calendar/c
 alendar-view/event/9347-cafe-at-home.html
DTSTART:20201024T230000Z
DTEND:20201024T234000Z
LOCATION:Online (Zoom) (Scroll down to join or register.) ()
SUMMARY:Cafe at Home 
URL:https://eruuf.org/calendar/calendar-view/event/9347-cafe-at-home.html
END:VEVENT
END:VCALENDAR
