BEGIN:VCALENDAR
VERSION:2.0
PRODID:-//https://eruuf.org///NONSGML kigkonsult.se iCalcreator 2.10.15//
METHOD:PUBLISH
BEGIN:VEVENT
UID:20260423T012415UTC-2155ot6K7a@https://eruuf.org/
DTSTAMP:20260423T012415Z
DESCRIPTION:Please see Upcoming Services for details of each service.Please
  see Past Services for podcasts and details of older services.  https://er
 uuf.org/calendar/calendar-view/event/943-second-worship-service.html
DTSTART:20141123T161500Z
DTEND:20141123T171500Z
LOCATION:Sanctuary - ERUUF   (4907 Garrett Road\, Durham\, NC 27707  )
SUMMARY:Second Worship Service
URL:https://eruuf.org/calendar/calendar-view/event/943-second-worship-servi
 ce.html
END:VEVENT
END:VCALENDAR
