BEGIN:VCALENDAR
VERSION:2.0
PRODID:-//https://eruuf.org///NONSGML kigkonsult.se iCalcreator 2.10.15//
METHOD:PUBLISH
BEGIN:VEVENT
UID:20260421T153314UTC-1024fgM1g4@https://eruuf.org/
DTSTAMP:20260421T153314Z
DESCRIPTION:On Saturday\, November 7 our topic will be Prayer.How might we 
 communicate directly from our heart to the great mystery within life (howe
 ver you might know it\, understand it\, have experienced it\, wonder about
  it)? There will be a chance in this session to create prayers. All are we
 lcome.   --About the SeriesOn the first Saturday of the month this fall we
 'll be Exploring Spiritual Practices.  Rev. Deborah Cayer facilitates this
  series of practical and experiential explorations of the role of spiritua
 l practice in our lives and how we can sustain it.All are welcome to parti
 cipate\, however\, we ask that you register in advance below. Once you've 
 registered we'll send you the Zoom link information.   \n https://eruuf.or
 g/calendar/calendar-view/event/9436-exploring-spiritual-practices.html
DTSTART:20201107T140000Z
DTEND:20201107T150000Z
LOCATION:Online (Zoom) (Scroll down to join or register.) ()
SUMMARY:Exploring Spiritual Practices
URL:https://eruuf.org/calendar/calendar-view/event/9436-exploring-spiritual
 -practices.html
END:VEVENT
END:VCALENDAR
