BEGIN:VCALENDAR
VERSION:2.0
PRODID:-//https://eruuf.org///NONSGML kigkonsult.se iCalcreator 2.10.15//
METHOD:PUBLISH
BEGIN:VEVENT
UID:20260419T161532UTC-8532K7tz5J@https://eruuf.org/
DTSTAMP:20260419T161532Z
DESCRIPTION:Blood Drive at ERUUF: Saturday\, November 14\, 2020\, 12:00 noo
 n - 5:00 pm\, ERUUF Campus\nThis November\, ERUUF is hosting a blood drive
  in partnership with The Blood Connection. Donating blood is considered to
  be an essential civic duty during a pandemic because blood donations are 
 vital to all communities. Make an appointment to donate blood at the link 
 below. All donors will be screened for COVID-19 Antibodies after every com
 pleted donation. Blood drive staff will be taking all necessary precaution
 s to ensure safety. \n- Face coverings are required while donating- Blood 
 drive staff will be wearing masks and cleaning surfaces after every donor-
  Donors are being asked to practice social distancing when possible\nQuest
 ions? Contact office@eruuf.org\nSchedule Your Appointment  https://eruuf.o
 rg/calendar/calendar-view/event/9469-blood-drive.html
DTSTART:20201114T170000Z
DTEND:20201114T220000Z
LOCATION:ERUUF Campus   (4907 Garrett Rd\, Durham\, NC 27707    )
SUMMARY:Blood Drive 
URL:https://eruuf.org/calendar/calendar-view/event/9469-blood-drive.html
END:VEVENT
END:VCALENDAR
