BEGIN:VCALENDAR
VERSION:2.0
PRODID:-//https://eruuf.org///NONSGML kigkonsult.se iCalcreator 2.10.15//
METHOD:PUBLISH
BEGIN:VEVENT
UID:20260425T103528UTC-3205VLxSuF@https://eruuf.org/
DTSTAMP:20260425T103528Z
DESCRIPTION:All are welcome to join Deb Cayer\, Jacqueline Brett\, Stacy Gr
 ove\, and Pam DiLavore for a variety hour of music\, gratitude\, connectio
 n\, and fun at 11:00 on Thanksgiving morning.  Music will be from some of 
 the recent fabulous Cafe ERUUF at Home recordings. We'll sprinkle in some 
 time to share our gratitudes\, connect with others\, laugh\, and maybe eve
 n dance.  So plan to put your turkey in the oven and tune in\, or bring us
  to your kitchen while you chop and stir. We can't gather in person but ou
 r gratitude has the power to safely bring us together--even online.\nClick
  below to join! Meeting ID: 917 242 4661 Passcode: Thankful\nJoin Now!\nCo
 me join us! https://eruuf.org/calendar/calendar-view/event/9484-eruuf-than
 ksgiving-gratitude-hour.html
DTSTART:20201126T160000Z
DTEND:20201126T170000Z
LOCATION:Online (Zoom) (Scroll down to join or register.) ()
SUMMARY:ERUUF Thanksgiving Gratitude Hour
URL:https://eruuf.org/calendar/calendar-view/event/9484-eruuf-thanksgiving-
 gratitude-hour.html
END:VEVENT
END:VCALENDAR
