BEGIN:VCALENDAR
VERSION:2.0
PRODID:-//https://eruuf.org///NONSGML kigkonsult.se iCalcreator 2.10.15//
METHOD:PUBLISH
BEGIN:VEVENT
UID:20260423T012129UTC-6707IuCJJz@https://eruuf.org/
DTSTAMP:20260423T012129Z
DESCRIPTION:Please see Upcoming Services for details of each service.Please
  see Past Services for podcasts and details of older services.  https://er
 uuf.org/calendar/calendar-view/event/949-second-worship-service.html
DTSTART:20141019T151500Z
DTEND:20141019T161500Z
LOCATION:Sanctuary - ERUUF   (4907 Garrett Road\, Durham\, NC 27707  )
SUMMARY:Second Worship Service
URL:https://eruuf.org/calendar/calendar-view/event/949-second-worship-servi
 ce.html
END:VEVENT
END:VCALENDAR
