BEGIN:VCALENDAR
VERSION:2.0
PRODID:-//https://eruuf.org///NONSGML kigkonsult.se iCalcreator 2.10.15//
METHOD:PUBLISH
BEGIN:VEVENT
UID:20260424T210617UTC-9559bOsUGR@https://eruuf.org/
DTSTAMP:20260424T210617Z
DESCRIPTION:JOIN US! We’ll assign roles\, then you’ll rummage through your 
 stuff to find a simple costume (socks can be paws\, bathrobes make awesome
  garb for wise persons\, scarves are shawls\, etc). You can act out your r
 ole as your part of the story is read aloud. All are welcome!  Questions a
 nd Zoom link\, Contact: Julia Tyler\, Director.  https://eruuf.org/calenda
 r/calendar-view/event/9505-no-rehearsal-pageant.html
DTSTART:20201220T213000Z
DTEND:20201220T223000Z
LOCATION:Online (Zoom) (Scroll down to join or register.) ()
SUMMARY:No-Rehearsal Pageant
URL:https://eruuf.org/calendar/calendar-view/event/9505-no-rehearsal-pagean
 t.html
END:VEVENT
END:VCALENDAR
