BEGIN:VCALENDAR
VERSION:2.0
PRODID:-//https://eruuf.org///NONSGML kigkonsult.se iCalcreator 2.10.15//
METHOD:PUBLISH
BEGIN:VEVENT
UID:20260424T000528UTC-67064i1sCE@https://eruuf.org/
DTSTAMP:20260424T000528Z
DESCRIPTION:**Note 12/18 E-News Correction. Correct time and day listed bel
 ow.**\nEno River CUUPS Winter Solstice Yule Celebration: Monday\, December
  21\, 5:00-6:00 pm Location: Zoom (email LKRosa1@aol.com for a link)\n'Cer
 emony brings us closer to those things that we need to appreciate\, that g
 ive us life.' -- Robin Jones of Seneca First Nation: Water Protector & Sta
 nding Rock Activist\nThis year\, Eno River CUUPS will gather online to cel
 ebrate the Dark of the Year\, Winter Solstice\, and Yule with a family-fri
 endly Zoom call. We'll gather for one hour on Monday\, December 21 startin
 g at 5:00 pm. Everyone is welcomed.\nEven though the coronavirus has us al
 l retreating in our homes\, we still have a deep connection to our human f
 amily\, to Mother Nature\, and to All Our Relations through our shared Lig
 ht of Life. At this season of the longest night\, we'll honor that eternal
  light of True Being with ceremony\, song\, a story for all ages\, a parti
 cipatory rhythm circle\, a brief time of sharing\, and more. This online g
 athering is open to adults and children. To receive a Zoom link and comple
 te event details\, contact Lila Rosa (LKRosa1@aol.com). https://eruuf.org/
 calendar/calendar-view/event/9506-solstice-celebration-eruuf-cuups.html
DTSTART:20201221T220000Z
DTEND:20201221T230000Z
LOCATION:Online (Zoom) (Scroll down to join or register.) ()
SUMMARY:Solstice Celebration - ERUUF CUUPS
URL:https://eruuf.org/calendar/calendar-view/event/9506-solstice-celebratio
 n-eruuf-cuups.html
END:VEVENT
END:VCALENDAR
