BEGIN:VCALENDAR
VERSION:2.0
PRODID:-//https://eruuf.org///NONSGML kigkonsult.se iCalcreator 2.10.15//
METHOD:PUBLISH
BEGIN:VEVENT
UID:20260425T023324UTC-1614JXpRSs@https://eruuf.org/
DTSTAMP:20260425T023324Z
DESCRIPTION:Everyone of all ages is invited to join ERUUF's Religious Educa
 tion Program in a variety of  COVID-safe\, fun\, and family-friendly activ
 ities this December! Questions? Contact Julia Tyler. This is ERUUF's annua
 l Fundraiser for Urban Ministries of Durham (UMD). Join via Zoom here.\nAl
 l are invited to bake cookies\, listen to a story\, and dance with us! We 
 will collect warm clothes\, cookies\, and hygiene products for people expe
 riencing homelessness. Urban Ministries needs: \n\nNew socks and new under
 wear in adult sizes\nTowels (new or used)\nShaving Cream \nUnisex Deodoran
 t \nTravel-sized lotion\n\nBring these items (along with cookies) to ERUUF
  by 7:00 pm on Sunday\, December 6th. There will be a labeled box outside 
 the CARE building for donations. Items may also be mailed directly to UMD\
 , 410 Liberty St. Durham\, NC 27702. https://eruuf.org/calendar/calendar-v
 iew/event/9508-r-e-cookie-baking-and-sock-hop.html
DTSTART:20201206T143000Z
DTEND:20201206T153000Z
LOCATION:Online (Zoom) (Scroll down to join or register.) ()
SUMMARY:R.E. Cookie Baking and Sock Hop 
URL:https://eruuf.org/calendar/calendar-view/event/9508-r-e-cookie-baking-a
 nd-sock-hop.html
END:VEVENT
END:VCALENDAR
