BEGIN:VCALENDAR
VERSION:2.0
PRODID:-//https://eruuf.org///NONSGML kigkonsult.se iCalcreator 2.10.15//
METHOD:PUBLISH
BEGIN:VEVENT
UID:20260423T002206UTC-4512VhRmud@https://eruuf.org/
DTSTAMP:20260423T002206Z
DESCRIPTION:In 2017\, a Special Campaign for Campus Needs was held with the
  goal of retiring ERUUF's remaining mortgage debt and establishing a reser
 ve to care for our campus. The campaign was a huge success and led to the 
 creation of the Campus Needs Fund\, a reserve set aside to cover major cam
 pus repairs and enhancements.\nAs part of the process of maintaining this 
 fund\, the Board of Trustees ordered a facilities study\, conducted by the
  firm of Giles-Flythe\, to provide a twenty year assessment of all campus 
 repair needs and associated costs.\nThe study has been completed and the B
 oard would like to share the results with you\, answer any questions you m
 ay have\, and have some deep discussion around maintaining this fund in to
  the future.\nPlease join us on Jan 25 at 7pm to hear presentations by Bob
  Giles and ERUUF's board of trustees\, and join in discussion about ERUUF'
 s financial future.\n Questions: Board@eruuf.org\nJoin Zoom meeting\nTopic
 : ERUUF Reserve Study Review\nTime: Jan 25\, 2021 07:00 PM Eastern Time\nE
 NO RIVER FELLOWSHIP is inviting you to a scheduled Zoom meeting.\nTopic: B
 oard Forum - Reserve Study ReviewTime: Jan 25\, 2021  7:00 PM Eastern Time
  (US and Canada)\nJoin Zoom Meeting\nhttps://us02web.zoom.us/j/81650682910
 ?pwd=Tnh0TWxEL2VRYk1xdFJzRnVBam16Zz09\nMeeting ID: 816 5068 2910Passcode: 
 192663  https://eruuf.org/calendar/calendar-view/event/9509-reserve-study-
 review-board-forum.html
DTSTART:20210126T000000Z
DTEND:20210126T020000Z
LOCATION:Online (Zoom) (Scroll down to join or register.) ()
SUMMARY:Reserve Study Review -- Board Forum
URL:https://eruuf.org/calendar/calendar-view/event/9509-reserve-study-revie
 w-board-forum.html
END:VEVENT
END:VCALENDAR
