BEGIN:VCALENDAR
VERSION:2.0
PRODID:-//https://eruuf.org///NONSGML kigkonsult.se iCalcreator 2.10.15//
METHOD:PUBLISH
BEGIN:VEVENT
UID:20260421T134834UTC-6660PNpuRm@https://eruuf.org/
DTSTAMP:20260421T134834Z
DESCRIPTION:Whether we're setting an intention for the day\, the year\, or 
 the coming hour\, when engaged with as spiritual practice\, an intention c
 an become a powerful point of focus that grounds and centers our hearts\, 
 especially when life is chaotic and unsettling. On this Saturday morning\,
  we'll set personal intentions for the New Year. About the Series\nIn thes
 e sessions that take place on the 3rd Saturday of each month\, we set our 
 hearts on an intention as we allow spiritual practice to nourish our desir
 e for personal and social transformation. However you 'make justice' in yo
 ur life\, you're invited to join us for this time of reflection and renewa
 l.This experiential class is led by Rev. Jacqueline Brett. All are welcome
 . Please register by 5:00 pm on the Friday before class to receive the Zoo
 m link for the class.  \nRegister Now \n \nQuestions? Contact Rev. Jacquel
 ine\n  https://eruuf.org/calendar/calendar-view/event/9512-spiritual-pract
 ice-for-justice-makers-setting-intentions.html
DTSTART:20210116T140000Z
DTEND:20210116T150000Z
LOCATION:Online (Zoom) (Scroll down to join or register.) ()
SUMMARY:Spiritual Practice for Justice Makers: Setting Intentions
URL:https://eruuf.org/calendar/calendar-view/event/9512-spiritual-practice-
 for-justice-makers-setting-intentions.html
END:VEVENT
END:VCALENDAR
