BEGIN:VCALENDAR
VERSION:2.0
PRODID:-//https://eruuf.org///NONSGML kigkonsult.se iCalcreator 2.10.15//
METHOD:PUBLISH
BEGIN:VEVENT
UID:20260420T221533UTC-80137mR0NF@https://eruuf.org/
DTSTAMP:20260420T221533Z
DESCRIPTION:Making our wellbeing a priority is important\, especially as we
  actively engage the difficulties of our lives and times. When is self car
 e needed and what makes spiritual practice different?  On this Saturday mo
 rning\, we'll explore the distinctions between the two and the necessities
  of both.\nAbout the Series\nIn these sessions that take place on the 3rd 
 Saturday of each month\, we set our hearts on an intention as we allow spi
 ritual practice to nourish our desire for personal and social transformati
 on. However you 'make justice' in your life\, you're invited to join us fo
 r this time of reflection and renewal.This experiential class is led by Re
 v. Jacqueline Brett. All are welcome. Please register by 5:00 pm on the Fr
 iday before class to receive the Zoom link for the class.  \n \nQuestions?
  Contact Rev. Jacqueline\n \nRegister Now!  https://eruuf.org/calendar/cal
 endar-view/event/9513-spiritual-practice-for-justice-makers-self-care-and-
 spiritual-practice.html
DTSTART:20210220T140000Z
DTEND:20210220T160000Z
LOCATION:Online (Zoom) (Scroll down to join or register.) ()
SUMMARY:Spiritual Practice for Justice Makers: Self-Care and Spiritual Prac
 tice
URL:https://eruuf.org/calendar/calendar-view/event/9513-spiritual-practice-
 for-justice-makers-self-care-and-spiritual-practice.html
END:VEVENT
END:VCALENDAR
