BEGIN:VCALENDAR
VERSION:2.0
PRODID:-//https://eruuf.org///NONSGML kigkonsult.se iCalcreator 2.10.15//
METHOD:PUBLISH
BEGIN:VEVENT
UID:20260420T022031UTC-0099rDKHxp@https://eruuf.org/
DTSTAMP:20260420T022031Z
DESCRIPTION:In these sessions that take place on the 3rd Saturday of each m
 onth\, we set our hearts on an intention as we allow spiritual practice to
  nourish our desire for personal and social transformation. However you 'm
 ake justice' in your life\, you're invited to join us for this time of ref
 lection and renewal.This experiential class is led by Rev. Jacqueline Bret
 t. All are welcome. Please register by 5:00 pm on the Friday before class 
 to receive the Zoom link for the class.  \n \nQuestions? Contact Rev. Jacq
 ueline\n  https://eruuf.org/calendar/calendar-view/event/9514-spiritual-pr
 actice-for-justice-makers.html
DTSTART:20210320T130000Z
DTEND:20210320T140000Z
LOCATION:Online (Zoom) (Scroll down to join or register.) ()
SUMMARY:Spiritual Practice for Justice Makers 
URL:https://eruuf.org/calendar/calendar-view/event/9514-spiritual-practice-
 for-justice-makers.html
END:VEVENT
END:VCALENDAR
