BEGIN:VCALENDAR
VERSION:2.0
PRODID:-//https://eruuf.org///NONSGML kigkonsult.se iCalcreator 2.10.15//
METHOD:PUBLISH
BEGIN:VEVENT
UID:20260420T170100UTC-97823UWjBo@https://eruuf.org/
DTSTAMP:20260420T170100Z
DESCRIPTION:Saturday\, January 2\, 9:00 - 10:00 am\, Zoom \nSpiritual teach
 er Henri Nouwen wrote\, “The spiritual practice of Hospitality involves op
 enness and the ability to listen and observe without judgment. The German 
 word for hospitality is Gastfreundschft which means friendship for the gue
 st... It means the creation of a free space where the stranger can enter a
 nd become a friend instead of an enemy.”  This morning we'll explore the s
 piritual practice of Hospitality. All are welcome. Register NowAbout the S
 eriesOn the first Saturday of the month\, we'll be Exploring Spiritual Pra
 ctices.  Rev. Deborah Cayer facilitates this series of practical and exper
 iential explorations of the role of spiritual practice in our lives and ho
 w we can sustain it.All are welcome to participate\, however\, we ask that
  you register in advance. Once you've registered we'll send you the Zoom l
 ink information.    https://eruuf.org/calendar/calendar-view/event/9541-ex
 ploring-spiritual-practices-hospitality.html
DTSTART:20210102T140000Z
DTEND:20210102T150000Z
LOCATION:Online (Zoom) (Scroll down to join or register.) ()
SUMMARY:Exploring Spiritual Practices: Hospitality
URL:https://eruuf.org/calendar/calendar-view/event/9541-exploring-spiritual
 -practices-hospitality.html
END:VEVENT
END:VCALENDAR
