BEGIN:VCALENDAR
VERSION:2.0
PRODID:-//https://eruuf.org///NONSGML kigkonsult.se iCalcreator 2.10.15//
METHOD:PUBLISH
BEGIN:VEVENT
UID:20260422T005231UTC-5373od6h77@https://eruuf.org/
DTSTAMP:20260422T005231Z
DESCRIPTION:The Infuusions Giving Circle meets Sunday\, Jan. 17 at 1 pm on 
 Zoom to review the organizations they support and make pledges for 2021. T
 his is an excellent meeting to find out what giving circles are all about.
  Interested persons are welcome. Contact Beth Harvat for the link or more 
 information. https://eruuf.org/calendar/calendar-view/event/9563-infuusion
 s-giving-circle.html
DTSTART:20210117T180000Z
DTEND:20210117T190000Z
LOCATION:Online (Zoom) (Scroll down to join or register.) ()
SUMMARY:Infuusions Giving Circle 
URL:https://eruuf.org/calendar/calendar-view/event/9563-infuusions-giving-c
 ircle.html
END:VEVENT
END:VCALENDAR
