BEGIN:VCALENDAR
VERSION:2.0
PRODID:-//https://eruuf.org///NONSGML kigkonsult.se iCalcreator 2.10.15//
METHOD:PUBLISH
BEGIN:VEVENT
UID:20260421T140624UTC-8285dvo80s@https://eruuf.org/
DTSTAMP:20260421T140624Z
DESCRIPTION:It's a new year\, and a new chance for us to all get together f
 or an evening of fellowship and creativity! We will have our third Cafe at
  Home on the evening of Saturday\, January 30. The Cafe is an opportunity 
 for entertainers of all ages to share in a family-friendly format. Perform
 ers will share music\, magic\, poetry readings\, dramatic readings\, juggl
 ing\, performance art\, or whatever their artistic endeavor. Questions? co
 ntact Pam DiLavore at DiLavore@aol.com. \nJoin Zoom Meeting https://us02we
 b.zoom.us/j/9172424661\nMeeting ID: 917 242 4661\n  https://eruuf.org/cale
 ndar/calendar-view/event/9564-cafe-at-home.html
DTSTART:20210131T000000Z
DTEND:20210131T010000Z
LOCATION:Online (Zoom) (Scroll down to join or register.) ()
SUMMARY:Cafe at Home 
URL:https://eruuf.org/calendar/calendar-view/event/9564-cafe-at-home.html
END:VEVENT
END:VCALENDAR
