BEGIN:VCALENDAR
VERSION:2.0
PRODID:-//https://eruuf.org///NONSGML kigkonsult.se iCalcreator 2.10.15//
METHOD:PUBLISH
BEGIN:VEVENT
UID:20260422T005407UTC-3359w3xjib@https://eruuf.org/
DTSTAMP:20260422T005407Z
DESCRIPTION:Exploring Spiritual Practice: Spirituality \nSaturday\, Februar
 y 3\, 9:00 - 10:00 am\, Zoom \nSimplicity: the practice of discerning what
 's 'enough'While simplicity is a new practice for many in our culture\, es
 pecially as we awaken to the threat of climate change\, it's an old practi
 ce in many spiritual traditions. Today\, gorgeous images of minimalism are
  all over Instagram. Is this what we mean when we talk about simplicity? O
 r can there be more to this as a spiritual practice? (Hint: yes!)  All are
  welcome. \n Register Now\nAbout the SeriesOn the first Saturday of the mo
 nth\, we'll be Exploring Spiritual Practices.Rev. Deborah Cayer facilitate
 s this series of practical and experiential explorations of the role of sp
 iritual practice in our lives and how we can sustain it.All are welcome to
  participate\, however\, we ask that you register in advance. Once you've 
 registered we'll send you the Zoom link information. https://eruuf.org/cal
 endar/calendar-view/event/9574-exploring-spiritual-practice-simplicity.htm
 l
DTSTART:20210206T140000Z
DTEND:20210206T150000Z
LOCATION:Online (Zoom) (Scroll down to join or register.) ()
SUMMARY:Exploring Spiritual Practice: Simplicity
URL:https://eruuf.org/calendar/calendar-view/event/9574-exploring-spiritual
 -practice-simplicity.html
END:VEVENT
END:VCALENDAR
