BEGIN:VCALENDAR
VERSION:2.0
PRODID:-//https://eruuf.org///NONSGML kigkonsult.se iCalcreator 2.10.15//
METHOD:PUBLISH
BEGIN:VEVENT
UID:20260423T024422UTC-9167anVo5t@https://eruuf.org/
DTSTAMP:20260423T024422Z
DESCRIPTION:All of us together— members and friends along with staff — form
  the beating heart of ERUUF\, and it's time once again to check our Pulse!
  The ERUUF Board of Trustees gathers feedback about life at ERUUF annually
 . The Pulse Survey takes about 10 minutes to complete and is open from Feb
 ruary 1st through February 28th. Our Board and Staff use this information 
 to help guide the Congregation’s efforts going forward. This year\, the Pu
 lse Survey includes some focused questions about how well we have managed 
 to keep ERUUF's heart beating during the pandemic.\nOur Board and Staff us
 e this information to help guide the Congregation’s efforts going forward.
  This year\, the Pulse Survey includes some focused questions about how we
 ll we have managed to keep ERUUF's heart beating during the pandemic. Plea
 se keep your eye out for information and links to the Pulse survey in the 
 month of February. Brought to you by the Committee for the Evaluation of M
 inistry: Mark Henault (chair)\, Julie Edmunds\, Nancy Henley\, Pam DiLavor
 e.\nTake the Annual Pulse Survey!\n \n  https://eruuf.org/calendar/calenda
 r-view/event/9604-annual-pulse-survey-february-1-28.html
DTSTART;VALUE=DATE:20210209
LOCATION:Online  (Online meetings are organized by the group leader. See th
 e meeting event details for information on how to join.)
SUMMARY:Annual Pulse Survey (February 1-28)
URL:https://eruuf.org/calendar/calendar-view/event/9604-annual-pulse-survey
 -february-1-28.html
END:VEVENT
END:VCALENDAR
