BEGIN:VCALENDAR
VERSION:2.0
PRODID:-//https://eruuf.org///NONSGML kigkonsult.se iCalcreator 2.10.15//
METHOD:PUBLISH
BEGIN:VEVENT
UID:20260426T035455UTC-3512LLboFm@https://eruuf.org/
DTSTAMP:20260426T035455Z
DESCRIPTION:These immerssive adult classes are held in the Commons Room and
  Library of the CARE Building.  Childcare provided.{article 767}{title} {t
 ext}{/article} https://eruuf.org/calendar/calendar-view/event/961-discover
 -and-deepen.html
DTSTART:20141109T152000Z
DTEND:20141109T161000Z
LOCATION:CARE Building   ()
SUMMARY:Discover and Deepen
URL:https://eruuf.org/calendar/calendar-view/event/961-discover-and-deepen.
 html
END:VEVENT
END:VCALENDAR
