BEGIN:VCALENDAR
VERSION:2.0
PRODID:-//https://eruuf.org///NONSGML kigkonsult.se iCalcreator 2.10.15//
METHOD:PUBLISH
BEGIN:VEVENT
UID:20260422T151141UTC-7006MPug6m@https://eruuf.org/
DTSTAMP:20260422T151141Z
DESCRIPTION:The Eno River Unitarian Universalist Fellowship Restitution for
  Racism Group Invites You to Participate in Our Narrowing the Racial Wealt
 h Gap Virtual Brown Bag Dinner Forum: Wealth & Economy\nMonday\, February 
 22\, 5:00 – 7:00 pm\nWe are live streaming the panel discussion. You can v
 iew the panel discussion on either ERUUF’s YouTube Channel or Facebook pag
 e. Look for the LIVE label. Please sign in a little early. We will begin a
 t 5:00.\nYouTube\nFacebook\n--SESSION 1 FOCUS: WEALTH and ECONOMY - What i
 s the history of the black economy in Durham? Did you know that before urb
 an renewal Hayti was seen as a self-sufficient community from cradle to gr
 ave for black families?Based on the Durham Racial Equity Task Force\, wher
 e are we now\, and how do we get to a better place? Did you know that whil
 e Durham’s population is 40% black\, black-owned businesses generate only 
 2.5% of the city’s business revenue? OBJECTIVE: Identify ways in which we 
 can join with on-going efforts to narrow the racial wealth gap in Durham. 
 PANELISTS: Henry McKoy\, business professor NCCU\; Camryn Smith\, ED Commu
 nities in Partnership\; Cory Hogans\, DRETF Wealth/Economy subcommitteePar
 ticipants are encouraged to purchase take-out from a black-owned restauran
 t!  Questions? Contact Mary Davis or Chris Macon at RRG@ERUUF.ORG.\n \n  h
 ttps://eruuf.org/calendar/calendar-view/event/9626-restitution-for-racism-
 group-narrowing-the-racial-wealth-gap-virtual-brown-bag-dinner-forum-wealt
 h-economy.html
DTSTART:20210222T220000Z
DTEND:20210223T000000Z
LOCATION:Online  (Online meetings are organized by the group leader. See th
 e meeting event details for information on how to join.)
SUMMARY:Restitution for Racism Group: Narrowing the Racial Wealth Gap Virtu
 al Brown Bag Dinner Forum: Wealth & Economy
URL:https://eruuf.org/calendar/calendar-view/event/9626-restitution-for-rac
 ism-group-narrowing-the-racial-wealth-gap-virtual-brown-bag-dinner-forum-w
 ealth-economy.html
END:VEVENT
END:VCALENDAR
