BEGIN:VCALENDAR
VERSION:2.0
PRODID:-//https://eruuf.org///NONSGML kigkonsult.se iCalcreator 2.10.15//
METHOD:PUBLISH
BEGIN:VEVENT
UID:20260423T015206UTC-5362Bf8s8P@https://eruuf.org/
DTSTAMP:20260423T015206Z
DESCRIPTION:Braiding Sweetgrass Group Read\, March - April 2021\, Virtual G
 athering \n \nOpen to ERUUF members\, friends\, and family\, this activity
  is part of ERUUF’s Green Sanctuary accreditation.The ERUUF Earth Justice 
 Action Group will sponsor a book reading and discussion this spring. We wi
 ll read Braiding Sweetgrass by Robin Wall Kimmerer. This poetic\, lyrical 
 work\, subtitled Indigenous Wisdom\, Scientific Knowledge\, and the Teachi
 ngs of Plants\, explores native ways of relating to the Earth. Ms. Kimmere
 r is a member of the Citizen Potawatomi Nation and a professor of environm
 ental biology at SUNY.Two groups will meet virtually during March and Apri
 l to discuss the book\; you may join either or both groups or switch betwe
 en them. Financial assistance is available for acquiring the book. Another
  book reading and discussion (book yet to be selected) will be offered in 
 fall 2021. Dates and times as follows. Click below to register.\nThursdays
 \, 11:30 am (3/4\, 3/18\, 4/1\, 4/15)Saturdays\, 2:30 pm (3/6\, 3/20\, 4/3
 \, 4/17)Questions? Need more information? Contact: Lynda Hambourger \nRegi
 ster Now https://eruuf.org/calendar/calendar-view/event/9688-earth-justice
 -group-read.html
DTSTART:20210415T153000Z
DTEND:20210416T163000Z
LOCATION:Online (Zoom) (Scroll down to join or register.) ()
SUMMARY:Earth Justice Group Read 
URL:https://eruuf.org/calendar/calendar-view/event/9688-earth-justice-group
 -read.html
END:VEVENT
END:VCALENDAR
