BEGIN:VCALENDAR
VERSION:2.0
PRODID:-//https://eruuf.org///NONSGML kigkonsult.se iCalcreator 2.10.15//
METHOD:PUBLISH
BEGIN:VEVENT
UID:20260421T074320UTC-9202Dhjxat@https://eruuf.org/
DTSTAMP:20260421T074320Z
DESCRIPTION:Exploring Spiritual Practice: Grieving\nSaturday\, March 6\, 9:
 00 - 10:00 am\, Zoom \nMartin Pretchel writes that 'grief is what living b
 eings experience when who or what they love dies or disappears.' This past
  strange year so much has disappeared\, and so many have died unexpectedly
 . There are lots of resources on the emotional and psychological necessity
  of grieving. This morning we'll explore what it might be like to grieve a
 s a spiritual practice\, and why we might choose to do this. What might th
 e spiritual work of grieving contribute as a gift to others and the world?
  All are welcome!  \n Register Now\nAbout the SeriesOn the first Saturday 
 of the month\, we'll be Exploring Spiritual Practices.Rev. Deborah Cayer f
 acilitates this series of practical and experiential explorations of the r
 ole of spiritual practice in our lives and how we can sustain it.All are w
 elcome to participate\, however\, we ask that you register in advance. Onc
 e you've registered we'll send you the Zoom link information. https://eruu
 f.org/calendar/calendar-view/event/9717-exploring-spiritual-practice-griev
 ing.html
DTSTART:20210306T140000Z
DTEND:20210306T150000Z
LOCATION:Online (Zoom) (Scroll down to join or register.) ()
SUMMARY:Exploring Spiritual Practice: Grieving
URL:https://eruuf.org/calendar/calendar-view/event/9717-exploring-spiritual
 -practice-grieving.html
END:VEVENT
END:VCALENDAR
