BEGIN:VCALENDAR
VERSION:2.0
PRODID:-//https://eruuf.org///NONSGML kigkonsult.se iCalcreator 2.10.15//
METHOD:PUBLISH
BEGIN:VEVENT
UID:20260424T183953UTC-92888tsM9c@https://eruuf.org/
DTSTAMP:20260424T183953Z
DESCRIPTION:In Person! Open to Families!\nWhen: Sunday\, March 21\, 2:00-3:
 30 pm\nLocation: CARE Building front lawn'Ceremony brings us closer to tho
 se things that we need to appreciate\, that give us life.' -- Robin Jones 
 of Seneca First Nation: Water Protector & Standing Rock Activist\nEno Rive
 r CUUPS warmly invites you to an in-person\, family-friendly celebration h
 onoring Spring Equinox and Ostara\, and sharing our gratitude and farewell
 s with the five Tree-Beings that are being removed from behind the CARE Bu
 ilding. Everyone is welcomed!\nThis is a sacred time on the Great Wheel of
  the Year with equal day and night for all Earth's Children. At this momen
 t of Balance\, we will explore different kinds of balance\, both inside us
  and in the world around us. Cathy Kielar will facilitate a Rhythm Circle 
 for everyone with a participatory rhythm procession ceremony on a nearby a
 ccessible walkway to connect us with letting the voice of Embodied Balance
  be heard by us and through us. The Ostara (and Easter!) season following 
 Equinox is named for Eostre\, the Teutonic Goddess of Spring and Dawn. She
  is still celebrated in parts of eastern Europe with gifts of red-dyed egg
 s left with love on the doorsteps of friends and family. Come see what Ost
 ara blessings will accompany our celebration!\nThis gathering is open to c
 hildren of all ages\; those age 15 and younger must be accompanied by a pa
 rent or an adult companion. Face masks are required for everyone age 2 and
  older. We will be masked at all times and will maintain social distance a
 t all times per ERUUF guidelines.\nBring your own handheld percussion inst
 rument for the rhythm procession\; some loaners will be provided. Please b
 ring your own lawn chair!\nQuestions? Contact Lila Rosa.  https://eruuf.or
 g/calendar/calendar-view/event/9776-eno-river-cuups-spring-equinox-ostara-
 celebration.html
DTSTART:20210321T180000Z
DTEND:20210321T193000Z
LOCATION:Outside Zone 4\, CARE Building Picnic Area ()
SUMMARY:Eno River CUUPS Spring Equinox Ostara Celebration
URL:https://eruuf.org/calendar/calendar-view/event/9776-eno-river-cuups-spr
 ing-equinox-ostara-celebration.html
END:VEVENT
END:VCALENDAR
