BEGIN:VCALENDAR
VERSION:2.0
PRODID:-//https://eruuf.org///NONSGML kigkonsult.se iCalcreator 2.10.15//
METHOD:PUBLISH
BEGIN:VEVENT
UID:20260422T001525UTC-3260ram0u4@https://eruuf.org/
DTSTAMP:20260422T001525Z
DESCRIPTION:How does money play a role in your life? How does it connect yo
 u to other people and the world? How do your spiritual values\, and specif
 ically UU values\, relate to attitudes and uses of money? Join in a lively
  discussion about money\, the meaning of money in our lives and the cultur
 al lessons we have learned about money and wealth. These first three sessi
 ons come from the UUA’s Wisdom Path curriculum with more to follow next fa
 ll. Register below for one or all (virtual) sessions to receive the Zoom l
 ink. Facilitators: Cindy Kuhn and Beth Harvat Session 1 - April 11\, 2021\
 , 1:00 pm: Talking about Money Session 2 - April 18\, 2021\, 1:00 pm: The 
 Meaning of Money in Our Lives Session 3 - April 25\, 2021\, 1:00 pm: Cultu
 ral Lessons about Money and Wealth\n \nRegister Now! https://eruuf.org/cal
 endar/calendar-view/event/9785-the-wisdom-path-a-conversation-about-money.
 html
DTSTART:20210425T170000Z
DTEND:20210425T180000Z
LOCATION:Online (Zoom) (Scroll down to join or register.) ()
SUMMARY:The Wisdom Path: A Conversation about Money
URL:https://eruuf.org/calendar/calendar-view/event/9785-the-wisdom-path-a-c
 onversation-about-money.html
END:VEVENT
END:VCALENDAR
