BEGIN:VCALENDAR
VERSION:2.0
PRODID:-//https://eruuf.org///NONSGML kigkonsult.se iCalcreator 2.10.15//
METHOD:PUBLISH
BEGIN:VEVENT
UID:20260420T210443UTC-95924rJ9lA@https://eruuf.org/
DTSTAMP:20260420T210443Z
DESCRIPTION:Come join us with your knitting or crocheting project for fun\,
  fellowship and learning about our ministry of giving to the community thr
 ough our hearts and hands. Clickers meets every 3rd Thursday of the month 
  to assemble afghans\, collect finished items\, exchange patterns and coor
 dinate deliveries. Learn more here or contact LaVerne Coan\, clickers@eruu
 f.org  https://eruuf.org/calendar/calendar-view/event/979-clicking-for-a-c
 ause.html
DTSTART:20150618T153000Z
DTEND:20150618T163000Z
LOCATION:Commons Room   (4907 Garrett Rd\, Durham\, NC 27707  )
SUMMARY:Clicking for a Cause
URL:https://eruuf.org/calendar/calendar-view/event/979-clicking-for-a-cause
 .html
END:VEVENT
END:VCALENDAR
