BEGIN:VCALENDAR
VERSION:2.0
PRODID:-//https://eruuf.org///NONSGML kigkonsult.se iCalcreator 2.10.15//
METHOD:PUBLISH
BEGIN:VEVENT
UID:20260425T011324UTC-39547pMTWo@https://eruuf.org/
DTSTAMP:20260425T011324Z
DESCRIPTION:Join us for our fourth Café at Home\, our online version of the
  beloved Café ERUUF! We will have an hour of fun\, relaxation\, and fellow
 ship on Zoom. This is a perfect opportunity for longtime Cafe ERUUF fans t
 o join with those who have never attended to enjoy the musical and dramati
 c offerings of some of our fellow ERUUFians from the comfort of your own h
 ome.\nClick on the link below to join!\nJoin Virtual Café at Home\n \nQues
 tions? Contact Pam DiLavore.   https://eruuf.org/calendar/calendar-view/ev
 ent/9794-cafe-at-home.html
DTSTART:20210417T230000Z
DTEND:20210418T000000Z
LOCATION:Online (Zoom) (Scroll down to join or register.) ()
SUMMARY:Café at Home
URL:https://eruuf.org/calendar/calendar-view/event/9794-cafe-at-home.html
END:VEVENT
END:VCALENDAR
