BEGIN:VCALENDAR
VERSION:2.0
PRODID:-//https://eruuf.org///NONSGML kigkonsult.se iCalcreator 2.10.15//
METHOD:PUBLISH
BEGIN:VEVENT
UID:20260425T034232UTC-5560TF2gai@https://eruuf.org/
DTSTAMP:20260425T034232Z
DESCRIPTION:Spiritual Practice for Justice Makers: Gratitude\nSaturday\, Ap
 ril 17\, 2021\, 9:00 - 11:00 am via ZoomGratitude is not a psychological o
 r political panacea\, like a secular prosperity gospel\, one that denies p
 ain or overlooks injustice\, because being grateful does not 'fix' anythin
 g....Gratitude\, however\, invalidates the false narrative that these thin
 gs are the sum total of human existence\, that despair is the last word. G
 ratitude gives us a new story.  ~ Diana Butler BassDuring this class\, we'
 ll explore gratitude as a powerful practice of self-care —but we won't sto
 p there. We'll also consider how to move gratitude out beyond our thoughts
  and journal pages to become a catalyst in alleviating injustice\, and eff
 ecting change in the world.\nAbout the SeriesThese experiential classes ar
 e led by Rev. Jacqueline Brett and take place on the 3rd Saturday of each 
 month. We gather for a mini-retreat time of reflection and renewal\, as we
  allow spiritual practice to nourish our desire for personal and social tr
 ansformation. All are welcome. Please register by 4:00 pm April 16 to rece
 ive the Zoom link for the class. Questions? Contact Rev. Jacqueline.This e
 xperiential class is led by Rev. Jacqueline Brett. All are welcome.   \n 
 \n  https://eruuf.org/calendar/calendar-view/event/9799-spiritual-practice
 -for-justice-makers-gratitude.html
DTSTART:20210417T130000Z
DTEND:20210417T140000Z
LOCATION:Online (Zoom) (Scroll down to join or register.) ()
SUMMARY:Spiritual Practice for Justice Makers: Gratitude
URL:https://eruuf.org/calendar/calendar-view/event/9799-spiritual-practice-
 for-justice-makers-gratitude.html
END:VEVENT
END:VCALENDAR
