BEGIN:VCALENDAR
VERSION:2.0
PRODID:-//https://eruuf.org///NONSGML kigkonsult.se iCalcreator 2.10.15//
METHOD:PUBLISH
BEGIN:VEVENT
UID:20260425T162657UTC-1163xUJ3DC@https://eruuf.org/
DTSTAMP:20260425T162657Z
DESCRIPTION:Exploring Spiritual Practice: Grieving\nSaturday\, May 1\, 9:00
  - 10:15 am\, Zoom \nWe continue our exploration of Grief with the practic
 es around 'Surrender.' What might be there when we finally open our hands 
 (and hearts) after a great loss? This morning we'll consider practices tha
 t can help increase our trust and courage.\n \n Register Now\nAbout the Se
 ries\nOn the first Saturday of the month\, Rev. Deborah Cayer facilitates 
 this series of practical and experiential explorations of the role of spir
 itual practice in our lives and how we can sustain it. All are welcome to 
 participate\, however\, we ask that you register in advance. Once you've r
 egistered we'll send you the Zoom link https://eruuf.org/calendar/calendar
 -view/event/9823-exploring-spiritual-practice-grieving.html
DTSTART:20210501T130000Z
DTEND:20210501T141500Z
LOCATION:Online (Zoom) (Scroll down to join or register.) ()
SUMMARY:Exploring Spiritual Practice: Grieving
URL:https://eruuf.org/calendar/calendar-view/event/9823-exploring-spiritual
 -practice-grieving.html
END:VEVENT
END:VCALENDAR
