BEGIN:VCALENDAR
VERSION:2.0
PRODID:-//https://eruuf.org///NONSGML kigkonsult.se iCalcreator 2.10.15//
METHOD:PUBLISH
BEGIN:VEVENT
UID:20260424T142410UTC-9352GIDbtv@https://eruuf.org/
DTSTAMP:20260424T142410Z
DESCRIPTION:\nEno River CUUPS May Day Beltane Celebration ~ In Person! \n 
 \nWhen: Saturday 1-May\, 7:00-8:00 pm\, Location: CARE Building front lawn
 \n\n\n\n\n\n \n \n\n'Ceremony brings us closer to those things that we nee
 d to appreciate\, that give us life.'\n\n\n  -- Robin Jones of Seneca Firs
 t Nation: Water Protector & Standing Rock Activist\n\n \nEno River CUUPS w
 armly invites you to an in-person celebration honoring May Day and Beltane
 . This sacred cross-quarter season on the Great Wheel of the Year halfway 
 between Spring Equinox and Summer Solstice is a time of community merrimen
 t\, celebrating the fertility of the Earth and all Earth's children that i
 s upon us now. We will be outdoors near the picnic tables in front of the 
 CARE Building\, the same place we were for Spring Equinox. For bathrooms\,
  we have the Fellowship Hall available. Please bring your own lawn chair. 
 \n\n\nFace masks are required\, and we will be masked at all times and wil
 l maintain social distance at all times per ERUUF guidelines for group gat
 herings. This gathering is open to all like-hearted adults age 16 and olde
 r.  \n\nQuestions? Contact Susan Baylies at sbaylies@gmail.com.\n https://
 eruuf.org/calendar/calendar-view/event/9825-eno-river-cuups-may-day-beltan
 e-celebration.html
DTSTART:20210501T230000Z
DTEND:20210502T000000Z
LOCATION:Outside Zone 4\, CARE Building Picnic Area ()
SUMMARY:Eno River CUUPS May Day Beltane Celebration
URL:https://eruuf.org/calendar/calendar-view/event/9825-eno-river-cuups-may
 -day-beltane-celebration.html
END:VEVENT
END:VCALENDAR
