BEGIN:VCALENDAR
VERSION:2.0
PRODID:-//https://eruuf.org///NONSGML kigkonsult.se iCalcreator 2.10.15//
METHOD:PUBLISH
BEGIN:VEVENT
UID:20260423T081540UTC-9952SFetJh@https://eruuf.org/
DTSTAMP:20260423T081540Z
DESCRIPTION:Join Zoom Meeting\nIn preparation for the Annual Meeting on Jun
 e 13\, there will be a review and discussion of finances/budget shortly af
 ter service next Sunday. This is an opportunity to learn more about the ch
 allenges and opportunities ahead as we move towards recovery in pandemic y
 ear 2. Click above to join. \n---\nMeeting ID: 917 242 4661One tap mobile+
 13017158592\,\,9172424661# US (Washington DC)+13126266799\,\,9172424661# U
 S (Chicago)Dial by your location        +1 301 715 8592 US (Washington DC)
         +1 312 626 6799 US (Chicago)        +1 646 558 8656 US (New York) 
        +1 253 215 8782 US (Tacoma)        +1 346 248 7799 US (Houston)    
     +1 669 900 6833 US (San Jose)Meeting ID: 917 242 4661Find your local n
 umber: https://us02web.zoom.us/u/kgl7slRow https://eruuf.org/calendar/cale
 ndar-view/event/9835-budget-forum.html
DTSTART:20210502T160000Z
DTEND:20210502T163000Z
LOCATION:Online (Zoom) (Scroll down to join or register.) ()
SUMMARY:Budget Forum
URL:https://eruuf.org/calendar/calendar-view/event/9835-budget-forum.html
END:VEVENT
END:VCALENDAR
