BEGIN:VCALENDAR
VERSION:2.0
PRODID:-//https://eruuf.org///NONSGML kigkonsult.se iCalcreator 2.10.15//
METHOD:PUBLISH
BEGIN:VEVENT
UID:20260424T072853UTC-9938Zj7PJX@https://eruuf.org/
DTSTAMP:20260424T072853Z
DESCRIPTION:Generosity Sundays offer an opportunity for the ERUUF community
  to practice collective generosity. ERUUF donates the collection plate off
 ering on designated Sundays to a Durham nonprofit working for social justi
 ce in ways aligned with UU values. The program has donated an average of m
 ore than $2\,000 to recipient nonprofits. Nominate your favorite Durham no
 nprofit today! \n--\nGenerosity Sundays were suspended early last year bec
 ause of uncertainties associated with the pandemic\, but the time is now r
 ipe to revive a practice that is central to the mission and spirit of our 
 Fellowship. ERUUF members and others in our community are encouraged to su
 bmit nominations of potential recipient Durham nonprofits to the Generosit
 y Sunday Committee\, which will review them and make recommendations to th
 e ministers. \n \nNomination forms are available on the ERUUF website alon
 g with selection criteria. The deadline for nominations is Sunday\, May 16
 .  \n \nIf you have questions\, please contact Ted Fiske\, Chair of the Ge
 nerosity Sunday Committee (efiske@aol.com or 919-641-1278).  https://eruuf
 .org/calendar/calendar-view/event/9836-deadline-for-generosity-sunday-nomi
 nation-submissions.html
DTSTART;VALUE=DATE:20210516
LOCATION:Online  (Online meetings are organized by the group leader. See th
 e meeting event details for information on how to join.)
SUMMARY:Deadline for Generosity Sunday Nomination Submissions 
URL:https://eruuf.org/calendar/calendar-view/event/9836-deadline-for-genero
 sity-sunday-nomination-submissions.html
END:VEVENT
END:VCALENDAR
