BEGIN:VCALENDAR
VERSION:2.0
PRODID:-//https://eruuf.org///NONSGML kigkonsult.se iCalcreator 2.10.15//
METHOD:PUBLISH
BEGIN:VEVENT
UID:20260422T124304UTC-8504jIlSrV@https://eruuf.org/
DTSTAMP:20260422T124304Z
DESCRIPTION:\nEno River CUUPS Summer Solstice Litha CelebrationWhen: Sunday
 \, June 27\, 6:00-7:30 pm - Different Date and Time!       \nLocation: San
 ctuary breezeway& Fellowship Hall patio\n\n \n \nTogether we celebrate the
  year's brightest season by honoring Light -- the Light of Presence\, the 
 Light of Bounty\, the Light of Illumination\, the Light of Remembrance -- 
 through a shared group movement practice that combines gospel music with t
 raditional Sufi phrases of zikr ('remembrance')\, inviting in joy\, love\,
  peace\, and ease. \n \nThis is a participatory gathering open to all adul
 ts and all abilities. Complete instruction is given and live music is prov
 ided. No experience is necessary. Modified movements will be shared for th
 ose who wish to remain seated. Separate space is available for those choos
 ing to be masked and socially-distanced. \n \nFor more information or to b
 e added to the Eno River CUUPS mailing list\, contact Lila Rosa.  https://
 eruuf.org/calendar/calendar-view/event/9837-eno-river-cuups-summer-solstic
 e-litha-celebration.html
DTSTART:20210627T220000Z
DTEND:20210627T233000Z
LOCATION:Sanctuary Breezeway (Zone 2) ()
SUMMARY:Eno River CUUPS Summer Solstice Litha Celebration
URL:https://eruuf.org/calendar/calendar-view/event/9837-eno-river-cuups-sum
 mer-solstice-litha-celebration.html
END:VEVENT
END:VCALENDAR
