BEGIN:VCALENDAR
VERSION:2.0
PRODID:-//https://eruuf.org///NONSGML kigkonsult.se iCalcreator 2.10.15//
METHOD:PUBLISH
BEGIN:VEVENT
UID:20260422T115614UTC-7130dwoBMf@https://eruuf.org/
DTSTAMP:20260422T115614Z
DESCRIPTION:Register Now!\nSunday\, June 13\, 2020\, 1:00 - 2:30 PM via Zoo
 m. \nAll members are asked to join us for this very important meeting. Reg
 istration is required. We will be live-streaming the meeting for those who
  are not members but wish to attend. Click below to watch.\nView Meeting L
 ive Stream\nOur Annual Meeting will be virtual again this year. We will be
  sharing important information regarding the state of ERUUF and the coming
  year. Members will also vote on our fiscal year 2021-22 budget as well as
  nominees for the Board of Trustees\, Healthy Congregation Committee\, Nom
 inating Committee\, and the Ministerial Search Committee.Annual Meeting Pa
 cket Materials will be posted here. Please email board@eruuf.org with any 
 questions. https://eruuf.org/calendar/calendar-view/event/9879-annual-meet
 ing.html
DTSTART:20210613T170000Z
DTEND:20210613T183000Z
LOCATION:Online (Zoom) (Scroll down to join or register.) ()
SUMMARY:Annual Meeting 
URL:https://eruuf.org/calendar/calendar-view/event/9879-annual-meeting.html
END:VEVENT
END:VCALENDAR
