BEGIN:VCALENDAR
VERSION:2.0
PRODID:-//https://eruuf.org///NONSGML kigkonsult.se iCalcreator 2.10.15//
METHOD:PUBLISH
BEGIN:VEVENT
UID:20260422T095530UTC-7760DpuvEn@https://eruuf.org/
DTSTAMP:20260422T095530Z
DESCRIPTION:Saturday\, May 29\, 9:00 am - 1:00 pm\, ERUUF CampusGive blood 
 and double your impact! ERUUF is partnering with The Blood Connection to h
 ost a blood drive on May 29th. For each blood donation received\, The Bloo
 d Connection will make a $20 charitable donation to Vaccines Ambassadors\,
  a nonprofit organization working with partners to provide equitable acces
 s and uptake of life-saving vaccines for everyone. Find an appointment tim
 e here. https://eruuf.org/calendar/calendar-view/event/9880-blood-drive.ht
 ml
DTSTART:20210529T130000Z
DTEND:20210529T170000Z
LOCATION:ERUUF Fellowship Hall (4907 Garrett Road)
SUMMARY:Blood Drive 
URL:https://eruuf.org/calendar/calendar-view/event/9880-blood-drive.html
END:VEVENT
END:VCALENDAR
