BEGIN:VCALENDAR
VERSION:2.0
PRODID:-//https://eruuf.org///NONSGML kigkonsult.se iCalcreator 2.10.15//
METHOD:PUBLISH
BEGIN:VEVENT
UID:20260421T235512UTC-4651Pn8N9e@https://eruuf.org/
DTSTAMP:20260421T235512Z
DESCRIPTION:All adults (grade 9+) are welcome to join the Eno River Singers
 . No audition is required. The singers rehearse with our director\, Dr. Ke
 vin Badanes\, on Thursday nights from 7-8:30 PM in the sanctuary. Standard
  repertoire includes classical\, folk\, and world music as well as traditi
 onal and modern UU hymns. https://eruuf.org/calendar/calendar-view/event/9
 90-choir-rehearsal.html
DTSTART:20150416T230000Z
DTEND:20150417T003000Z
LOCATION:Sanctuary - ERUUF   (4907 Garrett Road\, Durham\, NC 27707  )
SUMMARY:Choir Rehearsal
URL:https://eruuf.org/calendar/calendar-view/event/990-choir-rehearsal.html
END:VEVENT
END:VCALENDAR
