BEGIN:VCALENDAR
VERSION:2.0
PRODID:-//https://eruuf.org///NONSGML kigkonsult.se iCalcreator 2.10.15//
METHOD:PUBLISH
BEGIN:VEVENT
UID:20260421T225040UTC-4709NmU1cH@https://eruuf.org/
DTSTAMP:20260421T225040Z
DESCRIPTION:Please see the document below for this meeting's schedule. Meet
 ing is held over Zoom (link below).\nMeeting ID: 587 833 0298Passcode: 273
 2\nJoin Meeting\n  https://eruuf.org/calendar/this-week/event/14704-board-
 of-trustees-monthly-meeting.html
DTSTART:20261216T000000Z
DTEND:20261216T020000Z
LOCATION:Online  (Online meetings are organized by the group leader. See th
 e meeting event details for information on how to join.)
SUMMARY:Board of Trustees Monthly Meeting
URL:https://eruuf.org/calendar/this-week/event/14704-board-of-trustees-mont
 hly-meeting.html
END:VEVENT
END:VCALENDAR
