BEGIN:VCALENDAR
VERSION:2.0
PRODID:-//https://eruuf.org///NONSGML kigkonsult.se iCalcreator 2.10.15//
METHOD:PUBLISH
BEGIN:VEVENT
UID:20260420T070316UTC-6322O87sF1@https://eruuf.org/
DTSTAMP:20260420T070316Z
DESCRIPTION:WAG is an intentional space for people who identify as white to
  work on dismantling the internalized white supremacy in our bodies\, feel
 ings\, thoughts\, and behaviors. We acknowledge that the systems and struc
 tures of our culture were designed to uphold white supremacy and that whit
 e supremacy is violence. We take responsibility for transforming our bodie
 s\, feelings\, thoughts\, and behaviors from upholding the dominant cultur
 e toward the work of collective liberation for all. WAG\, as a racial iden
 tity caucus group\, is sibling to the Black\, Indigenous and People of Col
 or (BIPOC) group.\n \nPlease contact the White Antiracism Group for more i
 nformaiton. https://eruuf.org/calendar/this-week/event/15947-white-antirac
 ism-group-wag.html
DTSTART:20251116T180000Z
DTEND:20251116T193000Z
LOCATION:Commons Room   (4907 Garrett Rd\, Durham\, NC 27707  )
SUMMARY:White Antiracism Group (WAG)
URL:https://eruuf.org/calendar/this-week/event/15947-white-antiracism-group
 -wag.html
END:VEVENT
END:VCALENDAR
