BEGIN:VCALENDAR
VERSION:2.0
PRODID:-//https://eruuf.org///NONSGML kigkonsult.se iCalcreator 2.10.15//
METHOD:PUBLISH
BEGIN:VEVENT
UID:20260420T130339UTC-4292sN2Xk0@https://eruuf.org/
DTSTAMP:20260420T130339Z
DESCRIPTION:Join the Seniors Group as they discuss a chosen topic for the m
 onth!\nFor more information\, email the Seniors Group. https://eruuf.org/c
 onnect/events-small-groups/event/15965-eruuf-seniors-group.html
DTSTART:20260520T170000Z
DTEND:20260520T183000Z
LOCATION:Chapel   ()
SUMMARY:ERUUF Seniors Group
URL:https://eruuf.org/connect/events-small-groups/event/15965-eruuf-seniors
 -group.html
END:VEVENT
END:VCALENDAR
