BEGIN:VCALENDAR
VERSION:2.0
PRODID:-//https://eruuf.org///NONSGML kigkonsult.se iCalcreator 2.10.15//
METHOD:PUBLISH
BEGIN:VEVENT
UID:20260422T070733UTC-7360v4UOrr@https://eruuf.org/
DTSTAMP:20260422T070733Z
DESCRIPTION:Join the Trans @ ERUUF group for conversations on the trans and
  nonbinary experience both at ERUUF and in the larger world.\nFor more inf
 ormation\, please email trans@eruuf.org. https://eruuf.org/connect/events-
 small-groups/event/16063-trans-eruuf.html
DTSTART:20261220T173000Z
DTEND:20261220T190000Z
LOCATION:Room 3 - CARE Building ()
SUMMARY:Trans @ ERUUF
URL:https://eruuf.org/connect/events-small-groups/event/16063-trans-eruuf.h
 tml
END:VEVENT
END:VCALENDAR
