BEGIN:VCALENDAR
VERSION:2.0
PRODID:-//https://eruuf.org///NONSGML kigkonsult.se iCalcreator 2.10.15//
METHOD:PUBLISH
BEGIN:VEVENT
UID:20260420T103820UTC-3930A1G7CU@https://eruuf.org/
DTSTAMP:20260420T103820Z
DESCRIPTION:Join us as we share stitching with fiber and other forms of cre
 ativity as a spiritual practice.\nFor more information\, email the Spiritu
 al Threads Group or check out the website. https://eruuf.org/connect/event
 s-small-groups/event/16090-spiritual-threads.html
DTSTART:20260516T133028Z
DTEND:20260516T163028Z
LOCATION:CARE Building\, Room 4/5 (4907 Garrett Road)
SUMMARY:Spiritual Threads
URL:https://eruuf.org/connect/events-small-groups/event/16090-spiritual-thr
 eads.html
END:VEVENT
END:VCALENDAR
