BEGIN:VCALENDAR
VERSION:2.0
PRODID:-//https://eruuf.org///NONSGML kigkonsult.se iCalcreator 2.10.15//
METHOD:PUBLISH
BEGIN:VEVENT
UID:20260420T042627UTC-3871gMxmPp@https://eruuf.org/
DTSTAMP:20260420T042627Z
DESCRIPTION:Join us for an informal service of readings and prayers.\nConta
 ct us at christianfellowship@eruuf.org for more information. https://eruuf
 .org/connect/events-small-groups/event/16167-eruuf-christian-fellowship-me
 eting.html
DTSTART:20260908T230000Z
DTEND:20260909T013000Z
LOCATION:Room 3 - CARE Building ()
SUMMARY:ERUUF Christian Fellowship Meeting
URL:https://eruuf.org/connect/events-small-groups/event/16167-eruuf-christi
 an-fellowship-meeting.html
END:VEVENT
END:VCALENDAR
