BEGIN:VCALENDAR
VERSION:2.0
PRODID:-//https://eruuf.org///NONSGML kigkonsult.se iCalcreator 2.10.15//
METHOD:PUBLISH
BEGIN:VEVENT
UID:20260425T144809UTC-1000lJ9lfH@https://eruuf.org/
DTSTAMP:20260425T144809Z
DESCRIPTION:Please note that the location for the 4/26/2026 Inquirers Class
  will be the Chapel.\nThe Inquirers Series is offered each Sunday morning 
 to welcome and inform visitors and friends about ERUUF. You will converse 
 with ministers\, staff\, and lay leaders as you learn about ERUUF’s values
 \, culture\, and ministries\, along with basics about Unitarian Universali
 sm. Eight topics are covered\, one per session\, and then repeated through
 out the year. Twice a year\, we hold an all-class Saturday Retreat.\nExist
 ing members are also welcome! \nFor a full Inquirers Series schedule for t
 he year\, please click this link. \nContact the Inquirers Team and check o
 ut ERUUF's weekly E-News for more information! \nInquirers Classes are mee
 ting both in-person (Commons Room of the CARE Building) and online (Zoom).
  \nJoin online via the link below.\nJoin Zoom Meeting\n Meeting ID: 946 16
 51 6649Passcode: 028157 https://eruuf.org/learn/adults/class-schedule/even
 t/15614-inquirers-series.html
DTSTART:20260426T140000Z
DTEND:20260426T145000Z
LOCATION:Commons Room   (4907 Garrett Rd\, Durham\, NC 27707  )
SUMMARY:Inquirers Series
URL:https://eruuf.org/learn/adults/class-schedule/event/15614-inquirers-ser
 ies.html
END:VEVENT
END:VCALENDAR
